BEGIN:VCALENDAR
VERSION:2.0
PRODID:EVENTFROG//EVENT//ICAL
BEGIN:VEVENT
UID:20260425T155526Z-7380233610123544116@eventfrog.de
DTSTAMP:20260425T155526Z
DTSTART:20260427T160000Z
DTEND:20260427T200000Z
SUMMARY:Motorrad Kurven-Training 2
DESCRIPTION:Kurvenfahren, viele sagen, »Das Salz in der Suppe«!\n\nhttps://eventfrog.de/de/p/kurse-seminare/coaching/motorrad-kurven-training-2-7380233610123544116.html
LOCATION:ADAC Fahrsicherheitszentrum Grevenbroich
GEO:51.083287;6.551566
URL:https://eventfrog.de/de/p/kurse-seminare/coaching/motorrad-kurven-training-2-7380233610123544116.html
END:VEVENT
END:VCALENDAR