BEGIN:VCALENDAR
VERSION:2.0
PRODID:EVENTFROG//EVENT//ICAL
BEGIN:VEVENT
UID:20260420T224108Z-7380234596678425224@eventfrog.de
DTSTAMP:20260420T224108Z
DTSTART:20260422T160000Z
DTEND:20260422T200000Z
SUMMARY:ADAC Motorrad Kurven-Training 3
DESCRIPTION:Auf dem Weg zur tadellosen Fahrt!\n\nhttps://eventfrog.de/de/p/kurse-seminare/coaching/adac-motorrad-kurven-training-3-7380234596678425224.html
LOCATION:ADAC Fahrsicherheitszentrum Grevenbroich
GEO:51.083287;6.551566
URL:https://eventfrog.de/de/p/kurse-seminare/coaching/adac-motorrad-kurven-training-3-7380234596678425224.html
END:VEVENT
END:VCALENDAR