BEGIN:VCALENDAR
VERSION:2.0
PRODID:EVENTFROG//EVENT//ICAL
BEGIN:VEVENT
UID:20260421T235132Z-7380235939073776980@eventfrog.de
DTSTAMP:20260421T235132Z
DTSTART:20260423T160000Z
DTEND:20260423T200000Z
SUMMARY:Motorrad Kurven-Training 4
DESCRIPTION:Kurvenspaß und Notmanöver in der Kurve sollen in diesem Training im Vordergrund stehen.\n\nhttps://eventfrog.de/de/p/kurse-seminare/coaching/motorrad-kurven-training-4-7380235939073776980.html
LOCATION:ADAC Fahrsicherheitszentrum Grevenbroich
GEO:51.083287;6.551566
URL:https://eventfrog.de/de/p/kurse-seminare/coaching/motorrad-kurven-training-4-7380235939073776980.html
END:VEVENT
END:VCALENDAR