BEGIN:VCALENDAR
VERSION:2.0
PRODID:EVENTFROG//EVENT//ICAL
BEGIN:VEVENT
UID:20260425T184436Z-7389247337548276740@eventfrog.de
DTSTAMP:20260425T184436Z
DTSTART:20260425T173000Z
DTEND:20260425T200000Z
SUMMARY:Thomas Philipzen - Hirn in Teilzeit
DESCRIPTION:Thomas Philipzen vom Münsteraner Kultkabarett STORNO präsentiert sein neues Programm "Hirn in Teilzeit". Mit skurrilen Geschichten und Liedern begeistert er das Publikum seit 30 Jahren.\n\nhttps://eventfrog.de/de/p/theater-buehne/comedy-kabarett/thomas-philipzen-hirn-in-teilzeit-7389247337548276740.html
LOCATION:Kurtheater
GEO:51.895615;8.983543
URL:https://eventfrog.de/de/p/theater-buehne/comedy-kabarett/thomas-philipzen-hirn-in-teilzeit-7389247337548276740.html
END:VEVENT
END:VCALENDAR