BEGIN:VCALENDAR
VERSION:2.0
PRODID:EVENTFROG//EVENT//ICAL
BEGIN:VEVENT
UID:20260426T003506Z-7389253593944039214@eventfrog.de
DTSTAMP:20260426T003506Z
DTSTART:20260426T160000Z
DTEND:20260426T180000Z
SUMMARY:Lehrgut - Am Pult der Zeit
DESCRIPTION:Das Lehrerkabarett «Lehrgut» aus Paderborn zeigt in der Paderhalle humorvoll den Schulwahnsinn im neuen Programm «Am Pult der Zeit».\n\nhttps://eventfrog.de/de/p/theater-buehne/comedy-kabarett/lehrgut-am-pult-der-zeit-7389253593944039214.html
LOCATION:Kurtheater
GEO:51.895615;8.983543
URL:https://eventfrog.de/de/p/theater-buehne/comedy-kabarett/lehrgut-am-pult-der-zeit-7389253593944039214.html
END:VEVENT
END:VCALENDAR