BEGIN:VCALENDAR
VERSION:2.0
PRODID:EVENTFROG//EVENT//ICAL
BEGIN:VEVENT
UID:20260422T123334Z-7391845622062572191@eventfrog.de
DTSTAMP:20260422T123334Z
DTSTART:20260701T160000Z
SUMMARY:TREAM bei den KSKmusicOpen 2026
DESCRIPTION:TREAM Open Air 2026: Energiegeladene Show im Residenzschloss Ludwigsburg am 31. Juli 2026.\n\n\nhttps://eventfrog.de/de/p/konzerte/weitere-musikrichtungen/tream-bei-den-kskmusicopen-2026-7391845622062572191.html
LOCATION:Residenzschloss Ludwigsburg
GEO:48.900403;9.194718
URL:https://eventfrog.de/de/p/konzerte/weitere-musikrichtungen/tream-bei-den-kskmusicopen-2026-7391845622062572191.html
END:VEVENT
END:VCALENDAR