BEGIN:VCALENDAR
VERSION:2.0
PRODID:EVENTFROG//EVENT//ICAL
BEGIN:VEVENT
UID:20260425T040543Z-7400103109660284342@eventfrog.de
DTSTAMP:20260425T040543Z
DTSTART:20260425T190000Z
DTEND:20260426T020000Z
SUMMARY:NEON NIGHT
DESCRIPTION:Am 25. April 2026 findet im Lahnstadl Merenberg die Neon Night mit Black Music gegen House Music statt.\n\nhttps://eventfrog.de/de/p/partys/charts-open-format/neon-night-7400103109660284342.html
LOCATION:Lahnstadl
GEO:50.506293;8.187480
URL:https://eventfrog.de/de/p/partys/charts-open-format/neon-night-7400103109660284342.html
END:VEVENT
END:VCALENDAR