BEGIN:VCALENDAR
VERSION:2.0
PRODID:EVENTFROG//EVENT//ICAL
BEGIN:VEVENT
UID:20260422T100341Z-7402666894560371624@eventfrog.de
DTSTAMP:20260422T100341Z
DTSTART:20260430T083000Z
DTEND:20260430T163000Z
SUMMARY:Geschichte(n) Tansanias
DESCRIPTION:Sonderausstellung in Berlin über die kollaborative Entwicklungen zwischen Tansania und Deutschland, thematisiert die Kolonialgeschichte .\n\nhttps://eventfrog.de/de/p/kunst-ausstellungen/ausstellung/geschichte-n-tansanias-7402666894560371624.html
LOCATION:Humboldt Forum
GEO:52.517275;13.401640
URL:https://eventfrog.de/de/p/kunst-ausstellungen/ausstellung/geschichte-n-tansanias-7402666894560371624.html
END:VEVENT
END:VCALENDAR