BEGIN:VCALENDAR
VERSION:2.0
PRODID:EVENTFROG//EVENT//ICAL
BEGIN:VEVENT
UID:20260422T100250Z-7402667044443835704@eventfrog.de
DTSTAMP:20260422T100250Z
DTSTART:20260502T083000Z
DTEND:20260502T163000Z
SUMMARY:Geschichte(n) Tansanias
DESCRIPTION:Sonderausstellung in Berlin über die kollaborative Entwicklungen zwischen Tansania und Deutschland, thematisiert die Kolonialgeschichte .\n\nhttps://eventfrog.de/de/p/kunst-ausstellungen/ausstellung/geschichte-n-tansanias-7402667044443835704.html
LOCATION:Humboldt Forum
GEO:52.517275;13.401640
URL:https://eventfrog.de/de/p/kunst-ausstellungen/ausstellung/geschichte-n-tansanias-7402667044443835704.html
END:VEVENT
END:VCALENDAR