BEGIN:VCALENDAR
VERSION:2.0
PRODID:EVENTFROG//EVENT//ICAL
BEGIN:VEVENT
UID:20260419T234732Z-7407913870197528296@eventfrog.de
DTSTAMP:20260419T234732Z
DTSTART:20260509T150000Z
DTEND:20260509T180000Z
SUMMARY:Mitmischen!  Clubabend
DESCRIPTION:Mitmischen!  Clubabend\n\nhttps://eventfrog.de/de/p/diverses/mitmischen-clubabend-7407913870197528296.html
LOCATION:Kunst Museum  Beim Stadthaus
GEO:47.501502;8.730397
URL:https://eventfrog.de/de/p/diverses/mitmischen-clubabend-7407913870197528296.html
END:VEVENT
END:VCALENDAR