BEGIN:VCALENDAR
VERSION:2.0
PRODID:EVENTFROG//EVENT//ICAL
BEGIN:VEVENT
UID:20260424T083407Z-7408876784035302726@eventfrog.de
DTSTAMP:20260424T083407Z
DTSTART:20260829T064000Z
DTEND:20270619T100000Z
SUMMARY:Jahreskurs VaKi - Turnen für Vater und Kind in Wettswil 2026
DESCRIPTION:Gemeinsam hüpfen, springen, klettern und lachen. Turnen für Vater und Kind. \nJeweils an einem Samstagmorgen in der Turnhalle in Wettwil.\n\nhttps://eventfrog.de/de/p/sport-fitness/turnen/jahreskurs-vaki-turnen-fuer-vater-und-kind-in-wettswil-2026-7408876784035302726.html
LOCATION:Turnhalle Mettlen
GEO:47.338045;8.474943
URL:https://eventfrog.de/de/p/sport-fitness/turnen/jahreskurs-vaki-turnen-fuer-vater-und-kind-in-wettswil-2026-7408876784035302726.html
END:VEVENT
END:VCALENDAR