BEGIN:VCALENDAR
VERSION:2.0
PRODID:EVENTFROG//EVENT//ICAL
BEGIN:VEVENT
UID:20260424T082025Z-7409002942638866654@eventfrog.de
DTSTAMP:20260424T082025Z
DTSTART:20260509T180000Z
DTEND:20260509T210000Z
SUMMARY:Prince Jelleh (CH) & Support: Waverer (CH)
DESCRIPTION:Prince Jelleh (CH) & Support: Waverer (CH)\n\nhttps://eventfrog.de/de/p/konzerte/prince-jelleh-ch-support-waverer-ch-7409002942638866654.html
LOCATION:Albani
GEO:47.498480;8.729190
URL:https://eventfrog.de/de/p/konzerte/prince-jelleh-ch-support-waverer-ch-7409002942638866654.html
END:VEVENT
END:VCALENDAR