BEGIN:VCALENDAR
VERSION:2.0
PRODID:EVENTFROG//EVENT//ICAL
BEGIN:VEVENT
UID:20260420T053932Z-7412119516090472477@eventfrog.de
DTSTAMP:20260420T053932Z
DTSTART:20260424T150000Z
DTEND:20260424T190000Z
SUMMARY:Casinoabend 2026
DESCRIPTION:Ein Abend mit Casinospielen, Drinks an der Saftbar und Jobvermittlung im Arbeitsamt für alle Zocker, Promis und Gangster.\n\nhttps://eventfrog.de/de/p/kinderveranstaltungen/familienveranstaltungen/casinoabend-2026-7412119516090472477.html
LOCATION:Evang. Christuskirche
GEO:48.719636;11.472790
URL:https://eventfrog.de/de/p/kinderveranstaltungen/familienveranstaltungen/casinoabend-2026-7412119516090472477.html
END:VEVENT
END:VCALENDAR