BEGIN:VCALENDAR
VERSION:2.0
PRODID:EVENTFROG//EVENT//ICAL
BEGIN:VEVENT
UID:20260421T111501Z-7413530672566949262@eventfrog.de
DTSTAMP:20260421T111501Z
DTSTART:20260428T170000Z
DTEND:20260428T180000Z
SUMMARY:Eine kleine Nachtmusik
DESCRIPTION:Werke für verschiedene Holzbläser-Besetzungen, die im gemeinsamen Finale in Mozarts «Kleiner Nachtmusik» gipfeln.\n\nhttps://eventfrog.de/de/p/kinderveranstaltungen/konzert/eine-kleine-nachtmusik-7413530672566949262.html
LOCATION:Kronenmattsaal
GEO:47.539205;7.573987
URL:https://eventfrog.de/de/p/kinderveranstaltungen/konzert/eine-kleine-nachtmusik-7413530672566949262.html
END:VEVENT
END:VCALENDAR