BEGIN:VCALENDAR
VERSION:2.0
PRODID:EVENTFROG//EVENT//ICAL
BEGIN:VEVENT
UID:20260419T193838Z-7414944114737717103@eventfrog.de
DTSTAMP:20260419T193838Z
DTSTART:20260509T090000Z
DTEND:20260509T170000Z
SUMMARY:Camper & Vanlife Event Messe
DESCRIPTION:Vom 8. bis 10. Mai 2026 zeigt die Camper & Vanlife Messe am Jagdschloss Springe mobile Reise- und Outdoor-Innovationen.\n\nhttps://eventfrog.de/de/p/messen/messe/camper-vanlife-event-messe-7414944114737717103.html
LOCATION:Jagdschloss Springe - Niedersächsische Landesforsten
GEO:52.188995;9.573487
URL:https://eventfrog.de/de/p/messen/messe/camper-vanlife-event-messe-7414944114737717103.html
END:VEVENT
END:VCALENDAR