BEGIN:VCALENDAR
VERSION:2.0
PRODID:EVENTFROG//EVENT//ICAL
BEGIN:VEVENT
UID:20260420T091213Z-7414959142085854221@eventfrog.de
DTSTAMP:20260420T091213Z
DTSTART:20260425T070000Z
DTEND:20260425T140000Z
SUMMARY:Riesenflohmarkt in Kornwestheim
DESCRIPTION:Flohmarkt mittwochs auf Grossem Gelände bei Stuttgart / Ludwigsburg, Standmiete 10 EUR pro Meter, Neuwaren erlaubt. Online Verkauf auf gerosflohmarkt.de.\n\nhttps://eventfrog.de/de/p/maerkte/flohmarkt/riesenflohmarkt-in-kornwestheim-7414959142085854221.html
LOCATION:DRIVE IN Autokino Stuttgart Kornwestheim
GEO:48.878443;9.192198
URL:https://eventfrog.de/de/p/maerkte/flohmarkt/riesenflohmarkt-in-kornwestheim-7414959142085854221.html
END:VEVENT
END:VCALENDAR