BEGIN:VCALENDAR
VERSION:2.0
PRODID:EVENTFROG//EVENT//ICAL
BEGIN:VEVENT
UID:20260419T180432Z-7420842221652415622@eventfrog.de
DTSTAMP:20260419T180432Z
DTSTART:20261024T050000Z
DTEND:20261024T140000Z
SUMMARY:Flohmarkt in Mengen am Festplatz
DESCRIPTION:Flohmarkt mit Schmuck, Kleidung und Haushaltswaren am Samstag 7-16 Uhr \n\nhttps://eventfrog.de/de/p/maerkte/flohmarkt/flohmarkt-in-mengen-am-festplatz-7420842221652415622.html
LOCATION:Mengen Festplatz
GEO:48.046865;9.323290
URL:https://eventfrog.de/de/p/maerkte/flohmarkt/flohmarkt-in-mengen-am-festplatz-7420842221652415622.html
END:VEVENT
END:VCALENDAR