BEGIN:VCALENDAR
VERSION:2.0
PRODID:EVENTFROG//EVENT//ICAL
BEGIN:VEVENT
UID:20260423T020010Z-7421300719632803592@eventfrog.de
DTSTAMP:20260423T020010Z
DTSTART:20260506T083000Z
DTEND:20260506T163000Z
SUMMARY:Sich verwandt machen
DESCRIPTION:Die Ausstellung «Making Kin / Sich verwandt machen» zeigt internationale Künstlerinnen und Beziehungsnetze.\n\nhttps://eventfrog.de/de/p/kunst-ausstellungen/ausstellung/sich-verwandt-machen-7421300719632803592.html
LOCATION:Humboldt Forum
GEO:52.517275;13.401640
URL:https://eventfrog.de/de/p/kunst-ausstellungen/ausstellung/sich-verwandt-machen-7421300719632803592.html
END:VEVENT
END:VCALENDAR