BEGIN:VCALENDAR
VERSION:2.0
PRODID:EVENTFROG//EVENT//ICAL
BEGIN:VEVENT
UID:20260422T115143Z-7422186665291085443@eventfrog.de
DTSTAMP:20260422T115143Z
DTSTART:20260425T080000Z
DTEND:20260425T153000Z
SUMMARY:Systemischer Aufstellungsatag Familienstellen und Themen
DESCRIPTION:Familienaufstellung in Hagen am 25.4.2026 klärt Familiensysteme und fördert innere Freiheit, Leitung Dr. Heike Bechtloff.\n\nhttps://eventfrog.de/de/p/gesundheit-spiritualitaet/gesundheit-wohlbefinden/systemischer-aufstellungsatag-familienstellen-und-themen-7422186665291085443.html
LOCATION:Bildungsherberge Hagen
GEO:51.363921;7.502408
URL:https://eventfrog.de/de/p/gesundheit-spiritualitaet/gesundheit-wohlbefinden/systemischer-aufstellungsatag-familienstellen-und-themen-7422186665291085443.html
END:VEVENT
END:VCALENDAR