BEGIN:VCALENDAR
VERSION:2.0
PRODID:EVENTFROG//EVENT//ICAL
BEGIN:VEVENT
UID:20260424T000335Z-7422930820829061624@eventfrog.de
DTSTAMP:20260424T000335Z
DTSTART:20260424T173000Z
DTEND:20260424T190000Z
SUMMARY:Spiel(e) des Lebens
DESCRIPTION:Alexander Mabros spielt mit Naturgesetzen und der Realität in der Show "Spiel(e) des Lebens". Erleben Sie 80 Minuten Zauberei und Staunen in exklusivem Tischzauber-Theater.\n\nhttps://eventfrog.de/de/p/theater-buehne/theater/spiel-e-des-lebens-7422930820829061624.html
LOCATION:Magisches Theater Germersheim
GEO:49.216496;8.376689
URL:https://eventfrog.de/de/p/theater-buehne/theater/spiel-e-des-lebens-7422930820829061624.html
END:VEVENT
END:VCALENDAR