BEGIN:VCALENDAR
VERSION:2.0
PRODID:EVENTFROG//EVENT//ICAL
BEGIN:VEVENT
UID:20260422T100250Z-7423708286141088874@eventfrog.de
DTSTAMP:20260422T100250Z
DTSTART:20260501T083000Z
DTEND:20260501T163000Z
SUMMARY:An das wir uns festhalten
DESCRIPTION:Die Ausstellung «An das wir uns festhalten / Nothing As Our Ground» zeigt elf Positionen zu queeren und migrantischen Familienbildern.\n\nhttps://eventfrog.de/de/p/kunst-ausstellungen/ausstellung/an-das-wir-uns-festhalten-7423708286141088874.html
LOCATION:Humboldt Forum
GEO:52.517275;13.401640
URL:https://eventfrog.de/de/p/kunst-ausstellungen/ausstellung/an-das-wir-uns-festhalten-7423708286141088874.html
END:VEVENT
END:VCALENDAR