BEGIN:VCALENDAR
VERSION:2.0
PRODID:EVENTFROG//EVENT//ICAL
BEGIN:VEVENT
UID:20260423T235239Z-7424431351380576408@eventfrog.de
DTSTAMP:20260423T235239Z
DTSTART:20260424T173000Z
SUMMARY:Mephisto - Roman einer Karriere
DESCRIPTION:Schauspiel von Thomas Jonigk nach dem gleichnamigen Roman von Klaus Mann ab 14 Jahren\nTheater der Altmark Stendal\n\nhttps://eventfrog.de/de/p/theater-buehne/theater/mephisto-roman-einer-karriere-7424431351380576408.html
LOCATION:Carl-Maria-von-Weber-Theater
GEO:51.794635;11.736875
URL:https://eventfrog.de/de/p/theater-buehne/theater/mephisto-roman-einer-karriere-7424431351380576408.html
END:VEVENT
END:VCALENDAR