BEGIN:VCALENDAR
VERSION:2.0
PRODID:EVENTFROG//EVENT//ICAL
BEGIN:VEVENT
UID:20260424T002733Z-7426016816386804779@eventfrog.de
DTSTAMP:20260424T002733Z
DTSTART:20260425T163000Z
DTEND:20260425T183000Z
SUMMARY:MAMA GLÜHT VOR @ Havana
DESCRIPTION:Am 25.4. lädt MAMAGEHTTANZEN in Dillingen zu einem mama-freundlichen Tanz- und Genussabend im Rhymes Club und Havana ein.\n\nhttps://eventfrog.de/de/p/essen-trinken/mama-glueht-vor-havana-7426016816386804779.html
LOCATION:Havana Cocktail- & Shishalounge
GEO:48.580960;10.492467
URL:https://eventfrog.de/de/p/essen-trinken/mama-glueht-vor-havana-7426016816386804779.html
END:VEVENT
END:VCALENDAR