BEGIN:VCALENDAR
VERSION:2.0
PRODID:EVENTFROG//EVENT//ICAL
BEGIN:VEVENT
UID:20260421T041651Z-7426660026800985095@eventfrog.de
DTSTAMP:20260421T041651Z
DTSTART:20260620T090000Z
DTEND:20260620T094500Z
SUMMARY:Ich mach dich gesund, sagte der Bär
DESCRIPTION:Nach Janosch: Eine musikalische Erzählung in der Zeltbühne.\nAb 3 Jahren, 45 Min., keine Pause\n\nhttps://eventfrog.de/de/p/kinderveranstaltungen/kindertheater/ich-mach-dich-gesund-sagte-der-baer-7426660026800985095.html
LOCATION:Luftschloss Tempelhofer Feld
GEO:52.476672;13.386209
URL:https://eventfrog.de/de/p/kinderveranstaltungen/kindertheater/ich-mach-dich-gesund-sagte-der-baer-7426660026800985095.html
END:VEVENT
END:VCALENDAR