BEGIN:VCALENDAR
VERSION:2.0
PRODID:EVENTFROG//EVENT//ICAL
BEGIN:VEVENT
UID:20260420T125347Z-7427751021982544351@eventfrog.de
DTSTAMP:20260420T125347Z
DTSTART:20260626T172000Z
DTEND:20260626T194000Z
SUMMARY:Toggenburg Tanzt, freies tanzen , ecstatic
DESCRIPTION:"ecstatic dance" FREIES TANZEN ZU MUSIK AUS ALLER WELT\nklein und fein\n\nhttps://eventfrog.de/de/p/gesundheit-spiritualitaet/gesundheit-wohlbefinden/toggenburg-tanzt-freies-tanzen-ecstatic-7427751021982544351.html
LOCATION:Tanzraum
GEO:47.259535;9.126442
URL:https://eventfrog.de/de/p/gesundheit-spiritualitaet/gesundheit-wohlbefinden/toggenburg-tanzt-freies-tanzen-ecstatic-7427751021982544351.html
END:VEVENT
END:VCALENDAR