BEGIN:VCALENDAR
VERSION:2.0
PRODID:EVENTFROG//EVENT//ICAL
BEGIN:VEVENT
UID:20260419T235553Z-7428208753302868933@eventfrog.de
DTSTAMP:20260419T235553Z
DTSTART:20260510T083000Z
DTEND:20260510T093000Z
SUMMARY:Tout est lumière  Museumskonzert: Licht, Farben, Wind
DESCRIPTION:Tout est lumière  Museumskonzert: Licht, Farben, Wind\n\nhttps://eventfrog.de/de/p/diverses/tout-est-lumiere-museumskonzert-licht-farben-wind-7428208753302868933.html
LOCATION:Kunst Museum  Beim Stadthaus
GEO:47.501502;8.730397
URL:https://eventfrog.de/de/p/diverses/tout-est-lumiere-museumskonzert-licht-farben-wind-7428208753302868933.html
END:VEVENT
END:VCALENDAR