BEGIN:VCALENDAR
VERSION:2.0
PRODID:EVENTFROG//EVENT//ICAL
BEGIN:VEVENT
UID:20260422T115127Z-7429194827235913166@eventfrog.de
DTSTAMP:20260422T115127Z
DTSTART:20260425T080000Z
DTEND:20260425T113000Z
SUMMARY:Workshop: BFRBs und Emotionen
DESCRIPTION:Workshop: BFRBs und Emotionen\n\nhttps://eventfrog.de/de/p/gesundheit-spiritualitaet/gesundheit-wohlbefinden/workshop-bfrbs-und-emotionen-7429194827235913166.html
LOCATION:Online-Event
URL:https://eventfrog.de/de/p/gesundheit-spiritualitaet/gesundheit-wohlbefinden/workshop-bfrbs-und-emotionen-7429194827235913166.html
END:VEVENT
END:VCALENDAR