BEGIN:VCALENDAR
VERSION:2.0
PRODID:EVENTFROG//EVENT//ICAL
BEGIN:VEVENT
UID:20260424T002606Z-7429472389698699396@eventfrog.de
DTSTAMP:20260424T002606Z
DTSTART:20260425T163000Z
DTEND:20260425T200000Z
SUMMARY:Mitspiel-Krimi-Dinner "Feien Verhältnisse"
DESCRIPTION:Gemeinsam im Team einen Kriminalfall lösen und ein 3-Gang-Abendmenü geniessen – ein geselliger Abend voller Spannung und Spiel.\n\nhttps://eventfrog.de/de/p/essen-trinken/mitspiel-krimi-dinner-feien-verhaeltnisse-7429472389698699396.html
LOCATION:EIFELkrimihotel
GEO:50.291887;6.670366
URL:https://eventfrog.de/de/p/essen-trinken/mitspiel-krimi-dinner-feien-verhaeltnisse-7429472389698699396.html
END:VEVENT
END:VCALENDAR