BEGIN:VCALENDAR
VERSION:2.0
PRODID:EVENTFROG//EVENT//ICAL
BEGIN:VEVENT
UID:20260421T011104Z-7430248529602302688@eventfrog.de
DTSTAMP:20260421T011104Z
DTSTART:20260425T163000Z
SUMMARY:Waddelturnier beim TSV1862 Goßmannsdorf: Jetzt anmelden und
DESCRIPTION:TSV 1862 Gossmannsdorf lädt am 25. April zum Waddelturnier mit Startgebühr fünf Euro, Preisen und Verpflegung im Sportheim ein.\n\nhttps://eventfrog.de/de/p/partys/sonstige-partys/waddelturnier-beim-tsv1862-gossmannsdorf-jetzt-anmelden-und-7430248529602302688.html
LOCATION:Sportheim
GEO:50.133247;10.568033
URL:https://eventfrog.de/de/p/partys/sonstige-partys/waddelturnier-beim-tsv1862-gossmannsdorf-jetzt-anmelden-und-7430248529602302688.html
END:VEVENT
END:VCALENDAR