BEGIN:VCALENDAR
VERSION:2.0
PRODID:EVENTFROG//EVENT//ICAL
BEGIN:VEVENT
UID:20260419T154446Z-7430529909242467235@eventfrog.de
DTSTAMP:20260419T154446Z
DTSTART:20260424T140000Z
DTEND:20260424T180000Z
SUMMARY:WEIN & GENUSS  FRÜHLING 2026
DESCRIPTION:Frühjahrs- und Sommerweine entdecken, auch neue Bio- & alkoholfreie Weine, Winzer:innen treffen, Live-Cooking. 24. April 2026 in der Weinfleck Vinothek in Memmingen (Allgäu).\n\nhttps://eventfrog.de/de/p/essen-trinken/wein-genuss-fruehling-2026-7430529909242467235.html
LOCATION:Die Weinfleck Vinothek
GEO:47.977690;10.160980
URL:https://eventfrog.de/de/p/essen-trinken/wein-genuss-fruehling-2026-7430529909242467235.html
END:VEVENT
END:VCALENDAR