BEGIN:VCALENDAR
VERSION:2.0
PRODID:EVENTFROG//EVENT//ICAL
BEGIN:VEVENT
UID:20260422T114244Z-7430615300146484003@eventfrog.de
DTSTAMP:20260422T114244Z
DTSTART:20260704T180000Z
DTEND:20260704T200000Z
SUMMARY:Die Gabys
DESCRIPTION:Die Gabys feiern am 4.7.2026 auf dem Tempelhofer Feld mit Musik der 1920er und heiteren Berliner Zeitreisen.\n\nhttps://eventfrog.de/de/p/konzerte/weitere-musikrichtungen/die-gabys-7430615300146484003.html
LOCATION:Luftschloss Tempelhofer Feld
GEO:52.476672;13.386209
URL:https://eventfrog.de/de/p/konzerte/weitere-musikrichtungen/die-gabys-7430615300146484003.html
END:VEVENT
END:VCALENDAR