BEGIN:VCALENDAR
VERSION:2.0
PRODID:EVENTFROG//EVENT//ICAL
BEGIN:VEVENT
UID:20260422T115240Z-7430616959203454695@eventfrog.de
DTSTAMP:20260422T115240Z
DTSTART:20260816T173000Z
DTEND:20260816T193000Z
SUMMARY:Juanita LalÓ & Friends
DESCRIPTION:Juanita Laló & Friends begeistern mit lateinamerikanischen Beats und Jazz-Elementen und bringen den Saal mit eigenem Sound zum Tanzen.\n\nhttps://eventfrog.de/de/p/konzerte/weitere-musikrichtungen/juanita-lalo-friends-7430616959203454695.html
LOCATION:Luftschloss Tempelhofer Feld
GEO:52.476672;13.386209
URL:https://eventfrog.de/de/p/konzerte/weitere-musikrichtungen/juanita-lalo-friends-7430616959203454695.html
END:VEVENT
END:VCALENDAR