BEGIN:VCALENDAR
VERSION:2.0
PRODID:EVENTFROG//EVENT//ICAL
BEGIN:VEVENT
UID:20260425T174816Z-7430630053581487891@eventfrog.de
DTSTAMP:20260425T174816Z
DTSTART:20260426T080000Z
SUMMARY:Dorflohmarkt 2026
DESCRIPTION:Dorfflohmarkt in den Höfen von Stammheim (Stadtteil von Florstadt) von Trödel bis Scheunenfund alles dabei\n\nhttps://eventfrog.de/de/p/maerkte/flohmarkt/dorflohmarkt-2026-7430630053581487891.html
LOCATION:Im ganzen Ort
GEO:50.312262;8.914891
URL:https://eventfrog.de/de/p/maerkte/flohmarkt/dorflohmarkt-2026-7430630053581487891.html
END:VEVENT
END:VCALENDAR