BEGIN:VCALENDAR
VERSION:2.0
PRODID:EVENTFROG//EVENT//ICAL
BEGIN:VEVENT
UID:20260419T162550Z-7431312276626364177@eventfrog.de
DTSTAMP:20260419T162550Z
DTSTART:20260424T160000Z
DTEND:20260424T180000Z
SUMMARY:Frauen Basar
DESCRIPTION:Frauen-Basar\n\nVerkaufen - Stöbern - Neu Verlieben\n\nWir freuen uns auf einen entspannten Abend mit netten Begegnungen und erfolgreichen Käufen/Verkäufen.\n\nhttps://eventfrog.de/de/p/maerkte/flohmarkt/frauen-basar-7431312276626364177.html
LOCATION:St. Ulrich
GEO:47.694525;9.831033
URL:https://eventfrog.de/de/p/maerkte/flohmarkt/frauen-basar-7431312276626364177.html
END:VEVENT
END:VCALENDAR