BEGIN:VCALENDAR
VERSION:2.0
PRODID:EVENTFROG//EVENT//ICAL
BEGIN:VEVENT
UID:20260420T091359Z-7431641594162336815@eventfrog.de
DTSTAMP:20260420T091359Z
DTSTART:20260425T070000Z
DTEND:20260425T140000Z
SUMMARY:Kostenloser Riesenflohmarkt in Aschheim
DESCRIPTION:Flohmarkt im Grossraum München, jeden Samstag ohne Standgebühren und Anmeldung, Platzvergabe ab 6 Uhr, Besucher gratis.\n\nhttps://eventfrog.de/de/p/maerkte/flohmarkt/kostenloser-riesenflohmarkt-in-aschheim-7431641594162336815.html
LOCATION:DRIVE IN Autokino München Aschheim
GEO:48.162940;11.697870
URL:https://eventfrog.de/de/p/maerkte/flohmarkt/kostenloser-riesenflohmarkt-in-aschheim-7431641594162336815.html
END:VEVENT
END:VCALENDAR