BEGIN:VCALENDAR
VERSION:2.0
PRODID:EVENTFROG//EVENT//ICAL
BEGIN:VEVENT
UID:20260422T225919Z-7432365295073780130@eventfrog.de
DTSTAMP:20260422T225919Z
DTSTART:20260425T090000Z
DTEND:20260425T150000Z
SUMMARY:Moveat - Hilden
DESCRIPTION:Moveat Original: Entdeckt neue kulinarische Highlights und spannende Orte mit Freunden, Familie oder Kollegen. App zeigt den Weg zu 6-8 Stopps mit inkludierten Probiertellern.\n\nhttps://eventfrog.de/de/p/essen-trinken/moveat-hilden-7432365295073780130.html
LOCATION:.
URL:https://eventfrog.de/de/p/essen-trinken/moveat-hilden-7432365295073780130.html
END:VEVENT
END:VCALENDAR