BEGIN:VCALENDAR
VERSION:2.0
PRODID:EVENTFROG//EVENT//ICAL
BEGIN:VEVENT
UID:20260419T180432Z-7432409083469149357@eventfrog.de
DTSTAMP:20260419T180432Z
DTSTART:20260510T080000Z
DTEND:20260510T150000Z
SUMMARY:Regional- und Nachhaltigkeitsmesse
DESCRIPTION:Die 4. Regional- und Nachhaltigkeitsmesse am 10. Mai zeigt verschiedene Aussteller zu ganz unterschiedlichen Themen.\n\nhttps://eventfrog.de/de/p/messen/messe/regional-und-nachhaltigkeitsmesse-7432409083469149357.html
LOCATION:Jabachhalle
GEO:50.846299;7.221443
URL:https://eventfrog.de/de/p/messen/messe/regional-und-nachhaltigkeitsmesse-7432409083469149357.html
END:VEVENT
END:VCALENDAR