BEGIN:VCALENDAR
VERSION:2.0
PRODID:EVENTFROG//EVENT//ICAL
BEGIN:VEVENT
UID:20260421T110631Z-7432509289405670805@eventfrog.de
DTSTAMP:20260421T110631Z
DTSTART:20261010T180000Z
DTEND:20261010T210000Z
SUMMARY:LIZharmonic Theater DAS BAUMANN
DESCRIPTION:LIZharmonic steht für handgemachte Live-Musik und grenzenlose Spielfreude. Mit viel Liebe zum Detail präsentiert dieses Trio einzigartige Acoustic-Arrangements von Meilensteinen der Pop- & Soulmusik.\n\nhttps://eventfrog.de/de/p/konzerte/pop-rock/lizharmonic-theater-das-baumann-7432509289405670805.html
LOCATION:Theater DAS BAUMANN
GEO:50.123200;11.439219
URL:https://eventfrog.de/de/p/konzerte/pop-rock/lizharmonic-theater-das-baumann-7432509289405670805.html
END:VEVENT
END:VCALENDAR