BEGIN:VCALENDAR
VERSION:2.0
PRODID:EVENTFROG//EVENT//ICAL
BEGIN:VEVENT
UID:20260424T155524Z-7432825673092226278@eventfrog.de
DTSTAMP:20260424T155524Z
DTSTART:20260627T180000Z
DTEND:20260627T193000Z
SUMMARY:Der Seelenspiegel und die drei Fragen
DESCRIPTION:Frischer Flamenco direkt aus Spanien: ‚Seelenspiegel‘ – eine hingebungsvolle Reise über Reflexion, Identität, Perspektiven und die Verschmelzung mit der wahren Selbstliebe.\n\nhttps://eventfrog.de/de/p/theater-buehne/tanz/der-seelenspiegel-und-die-drei-fragen-7432825673092226278.html
LOCATION:Haberhaus Bühne
GEO:47.695348;8.631963
URL:https://eventfrog.de/de/p/theater-buehne/tanz/der-seelenspiegel-und-die-drei-fragen-7432825673092226278.html
END:VEVENT
END:VCALENDAR