BEGIN:VCALENDAR
VERSION:2.0
PRODID:EVENTFROG//EVENT//ICAL
BEGIN:VEVENT
UID:20260426T005027Z-7432830041346594282@eventfrog.de
DTSTAMP:20260426T005027Z
DTSTART:20260430T163000Z
DTEND:20260501T000000Z
SUMMARY:Mainight
DESCRIPTION:In der Schützenhalle beginnt die Tanz in den Mai-Party die Saison mit Musik und Gemeinschaft, eine Einladung zum fröhlichen Feiern.\n\nhttps://eventfrog.de/de/p/partys/charts-open-format/mainight-7432830041346594282.html
LOCATION:Scheibenstand BSV Oberlohberg
GEO:51.590819;6.797511
URL:https://eventfrog.de/de/p/partys/charts-open-format/mainight-7432830041346594282.html
END:VEVENT
END:VCALENDAR