BEGIN:VCALENDAR
VERSION:2.0
PRODID:EVENTFROG//EVENT//ICAL
BEGIN:VEVENT
UID:20260424T123344Z-7433943328998089099@eventfrog.de
DTSTAMP:20260424T123344Z
DTSTART:20261108T130000Z
DTEND:20261108T144000Z
SUMMARY:WOW! - Profesora & Professor Bummbastic
DESCRIPTION:«WOW!» von Profesora und Professor Bummbastic ist eine mitreissende Wissenschaftsshow für Familien ab 5 Jahren mit spannenden Experimenten.\n\nhttps://eventfrog.de/de/p/kinderveranstaltungen/familienveranstaltungen/wow-profesora-professor-bummbastic-7433943328998089099.html
LOCATION:Lorzensaal, Cham
GEO:47.180735;8.459444
URL:https://eventfrog.de/de/p/kinderveranstaltungen/familienveranstaltungen/wow-profesora-professor-bummbastic-7433943328998089099.html
END:VEVENT
END:VCALENDAR