BEGIN:VCALENDAR
VERSION:2.0
PRODID:EVENTFROG//EVENT//ICAL
BEGIN:VEVENT
UID:20260422T114245Z-7434267744940383705@eventfrog.de
DTSTAMP:20260422T114245Z
DTSTART:20260507T110000Z
DTEND:20260507T153000Z
SUMMARY:Kickstart to your AI Agent – Hands-on Workshop
DESCRIPTION:Workshop «Kickstart to your AI Agent» bietet praxisnahe Anleitung zur Entwicklung persönlicher KI-Agenten von der Idee bis zur Umsetzung.\n\nhttps://eventfrog.de/de/p/wissenschaft-und-technik/kickstart-to-your-ai-agent-hands-on-workshop-7434267744940383705.html
LOCATION:[bu:st] group GmbH
GEO:48.178471;11.593855
URL:https://eventfrog.de/de/p/wissenschaft-und-technik/kickstart-to-your-ai-agent-hands-on-workshop-7434267744940383705.html
END:VEVENT
END:VCALENDAR