BEGIN:VCALENDAR
VERSION:2.0
PRODID:EVENTFROG//EVENT//ICAL
BEGIN:VEVENT
UID:20260424T090919Z-7434879023124096724@eventfrog.de
DTSTAMP:20260424T090919Z
DTSTART:20260605T130000Z
DTEND:20260605T153000Z
SUMMARY:Spielpark Krewelshof Lohmar
DESCRIPTION:Der Krewelshof in Lohmar öffnet am 28. März den Spielpark, Wasser-Matschplatz und Familienfrühstück in der Spielscheune.\n\nhttps://eventfrog.de/de/p/freizeit-ausfluege/freizeit-und-erlebnisparks/spielpark-krewelshof-lohmar-7434879023124096724.html
LOCATION:Krewelshof
GEO:50.872637;7.198062
URL:https://eventfrog.de/de/p/freizeit-ausfluege/freizeit-und-erlebnisparks/spielpark-krewelshof-lohmar-7434879023124096724.html
END:VEVENT
END:VCALENDAR