BEGIN:VCALENDAR
VERSION:2.0
PRODID:EVENTFROG//EVENT//ICAL
BEGIN:VEVENT
UID:20260424T090942Z-7434879024533382921@eventfrog.de
DTSTAMP:20260424T090942Z
DTSTART:20260717T130000Z
DTEND:20260717T153000Z
SUMMARY:Spielpark Krewelshof Lohmar
DESCRIPTION:Der Krewelshof in Lohmar öffnet am 28. März den Spielpark, Wasser-Matschplatz und Familienfrühstück in der Spielscheune.\n\nhttps://eventfrog.de/de/p/freizeit-ausfluege/freizeit-und-erlebnisparks/spielpark-krewelshof-lohmar-7434879024533382921.html
LOCATION:Krewelshof
GEO:50.872637;7.198062
URL:https://eventfrog.de/de/p/freizeit-ausfluege/freizeit-und-erlebnisparks/spielpark-krewelshof-lohmar-7434879024533382921.html
END:VEVENT
END:VCALENDAR