BEGIN:VCALENDAR
VERSION:2.0
PRODID:EVENTFROG//EVENT//ICAL
BEGIN:VEVENT
UID:20260419T162418Z-7435232736636357316@eventfrog.de
DTSTAMP:20260419T162418Z
DTSTART:20260702T180000Z
DTEND:20260702T200000Z
SUMMARY:Album Release Monika Romanovská Band
DESCRIPTION:Am 2.7. stellt die Monika Romanovská Band ihr neues Album live vor; die CD erscheint erstmals am Konzertabend.\n\nhttps://eventfrog.de/de/p/konzerte/weitere-musikrichtungen/album-release-monika-romanovska-band-7435232736636357316.html
LOCATION:Startup Factory
GEO:49.910721;10.873545
URL:https://eventfrog.de/de/p/konzerte/weitere-musikrichtungen/album-release-monika-romanovska-band-7435232736636357316.html
END:VEVENT
END:VCALENDAR