BEGIN:VCALENDAR
VERSION:2.0
PRODID:EVENTFROG//EVENT//ICAL
BEGIN:VEVENT
UID:20260421T133821Z-7435281711447992448@eventfrog.de
DTSTAMP:20260421T133821Z
DTSTART:20260423T173000Z
DTEND:20260423T193000Z
SUMMARY:"True Crime" Axel Petermann
DESCRIPTION: Was bringt Menschen dazu, zu töten, Opfer zu misshandeln und ihre grausamsten Fantasien in die Realität umzusetzen? Axel Petermann ist Deutschlands bekanntester Profiler.\n\nhttps://eventfrog.de/de/p/fuehrungen-vortraege/vortrag/true-crime-axel-petermann-7435281711447992448.html
LOCATION:Stadthalle Pfarrkirchen
GEO:48.430080;12.933570
URL:https://eventfrog.de/de/p/fuehrungen-vortraege/vortrag/true-crime-axel-petermann-7435281711447992448.html
END:VEVENT
END:VCALENDAR