BEGIN:VCALENDAR
VERSION:2.0
PRODID:EVENTFROG//EVENT//ICAL
BEGIN:VEVENT
UID:20260421T151639Z-7435320658593055096@eventfrog.de
DTSTAMP:20260421T151639Z
DTSTART:20270320T180000Z
DTEND:20270320T213000Z
SUMMARY:True Crime Dinnershow "Mord(s)stories zum Menü"
DESCRIPTION:Entdecken Sie echte Kriminalfälle nehmen Sie am Krimiquiz teil. Tauchen Sie mit Bernhard Hatterscheidt in die Welt des echten Verbrechens ein.\n\nhttps://eventfrog.de/de/p/theater-buehne/buehnenveranstaltung/true-crime-dinnershow-mord-s-stories-zum-menue-7435320658593055096.html
LOCATION:Gasthaus Zum Goldenen Löwen
GEO:49.399026;8.627171
URL:https://eventfrog.de/de/p/theater-buehne/buehnenveranstaltung/true-crime-dinnershow-mord-s-stories-zum-menue-7435320658593055096.html
END:VEVENT
END:VCALENDAR