BEGIN:VCALENDAR
VERSION:2.0
PRODID:EVENTFROG//EVENT//ICAL
BEGIN:VEVENT
UID:20260426T022412Z-7435397917953790657@eventfrog.de
DTSTAMP:20260426T022412Z
DTSTART:20261030T180000Z
SUMMARY:The Hu (MNG)
DESCRIPTION:«The HU», Pioniere des Hunnu Rock aus der Mongolei, begeistern mit mongolischsprachigen Songs und internationalem Erfolg.\n\nhttps://eventfrog.de/de/p/konzerte/pop-rock/the-hu-mng-7435397917953790657.html
LOCATION:XTRA
GEO:47.384167;8.533001
URL:https://eventfrog.de/de/p/konzerte/pop-rock/the-hu-mng-7435397917953790657.html
END:VEVENT
END:VCALENDAR