BEGIN:VCALENDAR
VERSION:2.0
PRODID:EVENTFROG//EVENT//ICAL
BEGIN:VEVENT
UID:20260424T031155Z-7435584647625503232@eventfrog.de
DTSTAMP:20260424T031155Z
DTSTART:20260424T160000Z
DTEND:20260424T180000Z
SUMMARY:Workshop: Das 1x1 des weiblichen Körpers
DESCRIPTION:Ein Abend voller Wissen, Leichtigkeit und ehrlichem Austausch, an dem wir die weibliche Anatomie verständlich und klar benennen, alte Wissenslücken schließen und in einer geschützten Runde lernen. \n\nhttps://eventfrog.de/de/p/kurse-seminare/sonstige-kurse-seminare/workshop-das-1x1-des-weiblichen-koerpers-7435584647625503232.html
LOCATION:Rapunzel Welt
GEO:47.859855;10.131916
URL:https://eventfrog.de/de/p/kurse-seminare/sonstige-kurse-seminare/workshop-das-1x1-des-weiblichen-koerpers-7435584647625503232.html
END:VEVENT
END:VCALENDAR