BEGIN:VCALENDAR
VERSION:2.0
PRODID:EVENTFROG//EVENT//ICAL
BEGIN:VEVENT
UID:20260420T043030Z-7435605597964249724@eventfrog.de
DTSTAMP:20260420T043030Z
DTSTART:20260425T180000Z
DTEND:20260425T194500Z
SUMMARY:Konzert Photophor
DESCRIPTION:Photophor verbindet dunkle Elektronik und treibende Beats mit gesellschaftskritischen Texten und emotionaler Tiefe.\n\nhttps://eventfrog.de/de/p/konzerte/gothic-wave/konzert-photophor-7435605597964249724.html
LOCATION:Darkflower GmbH - Leipzig
GEO:51.342290;12.373650
URL:https://eventfrog.de/de/p/konzerte/gothic-wave/konzert-photophor-7435605597964249724.html
END:VEVENT
END:VCALENDAR